BEGIN:VCALENDAR
VERSION:2.0
PRODID:-//Plone.org//NONSGML plone.app.event//EN
X-WR-TIMEZONE:Europe/Berlin
BEGIN:VEVENT
SUMMARY:A ironia do progresso: Como o "desenvolvimento" traz pobreza ao ca
 mpo
DTSTART;TZID=Europe/Berlin;VALUE=DATE-TIME:20200626T193000
DTEND;TZID=Europe/Berlin;VALUE=DATE-TIME:20200626T203000
DTSTAMP;VALUE=DATE-TIME:20260420T132952Z
UID:c4374c573fc741beb0b3ac40fe9e0a42@app-03.tuxwerk.de:8080
CATEGORIES:_feb
CONTACT:KoBra\, info@kooperation-brasilien.org
CREATED;VALUE=DATE-TIME:20200622T121350Z
DESCRIPTION:Webinar com Valmir Soares de Macedo\, abordando as dificuldade
 s trazidas por empresas multinacionais para o Vale do Jequitinhonha (MG)\,
  em busca de lucro e o poder.
LAST-MODIFIED;VALUE=DATE-TIME:20230314T145247Z
LOCATION:BigBlueButton (Link na descripção)
URL:https://www.kooperation-brasilien.org/pt-br/temas-1/a-ironia-do-progre
 sso-como-o-desenvolvimento-traz-pobreza-no-campo
END:VEVENT
BEGIN:VTIMEZONE
TZID:Europe/Berlin
X-LIC-LOCATION:Europe/Berlin
BEGIN:DAYLIGHT
DTSTART;VALUE=DATE-TIME:20200329T030000
TZNAME:CEST
TZOFFSETFROM:+0100
TZOFFSETTO:+0200
END:DAYLIGHT
END:VTIMEZONE
END:VCALENDAR
