BEGIN:VCALENDAR
VERSION:2.0
PRODID:-//Plone.org//NONSGML plone.app.event//EN
X-WR-TIMEZONE:Europe/Berlin
BEGIN:VEVENT
SUMMARY:Mesa Redonda Brasil 2021
DTSTART;TZID=Europe/Berlin;VALUE=DATE-TIME:20211126T180000
DTEND;TZID=Europe/Berlin;VALUE=DATE-TIME:20211128T130000
DTSTAMP;VALUE=DATE-TIME:20260422T223941Z
UID:f9941bbf2d0f4089af70a3ae4c8e5281@app-03.tuxwerk.de:8080
CATEGORIES:Biodiversität,Agrarreform
CONTACT:https://pretix.eu/locale/set?locale=pt-pt&next=/kobra/rtb21/
CREATED;VALUE=DATE-TIME:20210823T113126Z
DESCRIPTION:Brasil: Combate às desigualdades sociais diante da pandemia.
LAST-MODIFIED;VALUE=DATE-TIME:20220413T122531Z
LOCATION:Tagungshaus Kloster Höchst (Odenwald)  / online
URL:https://www.kooperation-brasilien.org/pt-br/evento/mesa-redonda-brasil
 /mesa-redonda-brasil-2021/mesa-redonda-brasil-2021
END:VEVENT
BEGIN:VTIMEZONE
TZID:Europe/Berlin
X-LIC-LOCATION:Europe/Berlin
BEGIN:STANDARD
DTSTART;VALUE=DATE-TIME:20211031T020000
TZNAME:CET
TZOFFSETFROM:+0200
TZOFFSETTO:+0100
END:STANDARD
END:VTIMEZONE
END:VCALENDAR
