BEGIN:VCALENDAR
VERSION:2.0
PRODID:-//Plone.org//NONSGML plone.app.event//EN
X-WR-TIMEZONE:Europe/Berlin
BEGIN:VEVENT
SUMMARY:Nenhum direito a menos!
DTSTART;TZID=Europe/Berlin;VALUE=DATE-TIME:20171110T190000
DTEND;TZID=Europe/Berlin;VALUE=DATE-TIME:20171112T150000
DTSTAMP;VALUE=DATE-TIME:20260423T092305Z
UID:bb01adeb09fd4ca5f9df9f4b57ef2cc8@app-03.tuxwerk.de:8080
CATEGORIES:Movimentos sociais
CREATED;VALUE=DATE-TIME:20200430T080953Z
DESCRIPTION:Direitos Humanos: um campo de batalha
LAST-MODIFIED;VALUE=DATE-TIME:20230314T154259Z
LOCATION:Hofgeismar
URL:https://www.kooperation-brasilien.org/pt-br/evento/mesa-redonda-brasil
 /mesa-redonda-2017/nenhum-direito-a-menos
END:VEVENT
BEGIN:VTIMEZONE
TZID:Europe/Berlin
X-LIC-LOCATION:Europe/Berlin
BEGIN:STANDARD
DTSTART;VALUE=DATE-TIME:20171029T020000
TZNAME:CET
TZOFFSETFROM:+0200
TZOFFSETTO:+0100
END:STANDARD
END:VTIMEZONE
END:VCALENDAR
