BEGIN:VCALENDAR
VERSION:2.0
PRODID:-//Plone.org//NONSGML plone.app.event//EN
X-WR-TIMEZONE:Europe/Berlin
BEGIN:VEVENT
SUMMARY:Mesa Redonda 2014: Crescimento para que(m)? (Pós)crescimento no B
 rasil e na Alemanha
DTSTART;TZID=Europe/Berlin;VALUE=DATE-TIME:20141121T200000
DTEND;TZID=Europe/Berlin;VALUE=DATE-TIME:20141123T150000
DTSTAMP;VALUE=DATE-TIME:20260423T062951Z
UID:5117343d60fce91bbaeec525294960c5@app-03.tuxwerk.de:8080
CREATED;VALUE=DATE-TIME:20200430T080835Z
DESCRIPTION:Convidados do Brasil e da Alemanha discutem questões do (pós
 )crescimento no Brasil e na Alemanha
LAST-MODIFIED;VALUE=DATE-TIME:20200430T080835Z
LOCATION:Naunhof (próximo à Leipzig)
URL:https://www.kooperation-brasilien.org/pt-br/evento/mesa-redonda-brasil
 /mesa-redonda-2014/ssss
END:VEVENT
BEGIN:VTIMEZONE
TZID:Europe/Berlin
X-LIC-LOCATION:Europe/Berlin
BEGIN:STANDARD
DTSTART;VALUE=DATE-TIME:20141026T020000
TZNAME:CET
TZOFFSETFROM:+0200
TZOFFSETTO:+0100
END:STANDARD
END:VTIMEZONE
END:VCALENDAR
