BEGIN:VCALENDAR
VERSION:2.0
PRODID:-//Plone.org//NONSGML plone.app.event//EN
X-WR-TIMEZONE:Europe/Berlin
BEGIN:VEVENT
SUMMARY:Zwischen Regierung\, Parlament und Justiz: Die Dynamik des politis
 chen Systems Brasiliens
DTSTART;TZID=Europe/Berlin;VALUE=DATE-TIME:20260327T151500
DTSTAMP;VALUE=DATE-TIME:20260420T023819Z
UID:db7cfb4df8ed43d2b8dd20f6bcd100be@app-03.tuxwerk.de:8080
CATEGORIES:_Newsletter
CREATED;VALUE=DATE-TIME:20251217T134042Z
DESCRIPTION:Hybridveranstaltung im Rahmen der KoBra-Frühjahrstagung in Ko
 operation mit dem Lateinamerika-Forum Berlin/LAF
LAST-MODIFIED;VALUE=DATE-TIME:20260324T111554Z
LOCATION:Jugendherberge Mainz\, Otto-Brunfels-Schneise 4\, 55130 Mainz und
  Zoom
URL:https://www.kooperation-brasilien.org/de/veranstaltungen/termine/zwisc
 hen-regierung-parlament-und-justiz-die-dynamik-des-politischen-systems-bra
 siliens
END:VEVENT
BEGIN:VTIMEZONE
TZID:Europe/Berlin
X-LIC-LOCATION:Europe/Berlin
BEGIN:STANDARD
DTSTART;VALUE=DATE-TIME:20251026T020000
TZNAME:CET
TZOFFSETFROM:+0200
TZOFFSETTO:+0100
END:STANDARD
END:VTIMEZONE
END:VCALENDAR
