BEGIN:VCALENDAR
VERSION:2.0
PRODID:-//Plone.org//NONSGML plone.app.event//EN
X-WR-TIMEZONE:Europe/Berlin
BEGIN:VEVENT
SUMMARY:Zwischen Drohnen und Wäldern - Das audiovisuelle Munduruku-Kollek
 tiv "Daje Kapap Eypi" bei der Verteidigung seines Territoriums
DTSTART;TZID=Europe/Berlin;VALUE=DATE-TIME:20231218T190000
DTSTAMP;VALUE=DATE-TIME:20260420T132622Z
UID:0ed42431cff34377aaeffb5f992dd95f@app-03.tuxwerk.de:8080
CREATED;VALUE=DATE-TIME:20231218T091009Z
DESCRIPTION:Im Widerstand gegen die Versuche von Holzindustrie und illegal
 em Goldbergbau\, in das indigene Gebiet Sawré Muybu vom Volk der Munduruk
 u einzudringen\, haben sich die Munduruku-Frauen im Audiovisuellem Kollekt
 iv „Daje Kapap Eypi“ organisiert und nutzen die neuen digitalen Medien
  zu ihrem Vorteil\, um die Welt mit ihren Filmen auf die Herausforderungen
  ihres Volkes und die Bedeutung des Kampfes für die Demarkierung der indi
 genen Gebiete aufmerksam zu machen. „Daje Kapap Eypi“ bedeutet „der 
 Durchgang der Schweine“\, eine Anspielung auf einen heiligen Ort für da
 s Volk der Munduruku. Mit ihrer Arbeit verfolgen sie zwei Ziele: das Terri
 torium zu verteidigen und das Überleben der Werte der Vorfahren für dies
 e und kommenden Generationen zu garantieren.
LAST-MODIFIED;VALUE=DATE-TIME:20231218T091046Z
LOCATION:Regenbogenkino e.V.\, Lausitzer Str. 22\, 10999 Berlin
URL:https://www.kooperation-brasilien.org/de/veranstaltungen/termine/zwisc
 hen-drohnen-und-waeldern-das-audiovisuelle-munduruku-kollektiv-daje-kapap-
 eypi-bei-der-verteidigung-seines-territoriums
END:VEVENT
BEGIN:VTIMEZONE
TZID:Europe/Berlin
X-LIC-LOCATION:Europe/Berlin
BEGIN:STANDARD
DTSTART;VALUE=DATE-TIME:20231029T020000
TZNAME:CET
TZOFFSETFROM:+0200
TZOFFSETTO:+0100
END:STANDARD
END:VTIMEZONE
END:VCALENDAR
