BEGIN:VCALENDAR
VERSION:2.0
PRODID:-//Plone.org//NONSGML plone.app.event//EN
X-WR-TIMEZONE:Europe/Berlin
BEGIN:VEVENT
SUMMARY:Zukunft der Ernährungssysteme: Brasilianische Impulse für Deutsc
 hland
DTSTART;TZID=Europe/Berlin;VALUE=DATE-TIME:20250620T170000
DTEND;TZID=Europe/Berlin;VALUE=DATE-TIME:20250620T200000
DTSTAMP;VALUE=DATE-TIME:20260420T081814Z
UID:fd7331c789ec4b5388688dd6e39d7327@app-03.tuxwerk.de:8080
CREATED;VALUE=DATE-TIME:20250604T145649Z
DESCRIPTION:Brot für die Welt und AS-PTA laden zu einer Podiumsdiskussion
  mit brasilianischen Gästen ein.
LAST-MODIFIED;VALUE=DATE-TIME:20250604T145941Z
LOCATION:Brot für die Welt – Evangelischer Entwicklungsdienst Caroline-
 Michaelis- Straße 1 10115 Berlin
URL:https://www.kooperation-brasilien.org/de/veranstaltungen/termine/zukun
 ft-der-ernaehrungssysteme-brasilianische-impulse-fuer-deutschland
END:VEVENT
BEGIN:VTIMEZONE
TZID:Europe/Berlin
X-LIC-LOCATION:Europe/Berlin
BEGIN:DAYLIGHT
DTSTART;VALUE=DATE-TIME:20250330T030000
TZNAME:CEST
TZOFFSETFROM:+0100
TZOFFSETTO:+0200
END:DAYLIGHT
END:VTIMEZONE
END:VCALENDAR
