BEGIN:VCALENDAR
VERSION:2.0
PRODID:-//Plone.org//NONSGML plone.app.event//EN
X-WR-TIMEZONE:Europe/Berlin
BEGIN:VEVENT
SUMMARY:Zivilgesellschaft unter Druck
DTSTART;TZID=Europe/Berlin;VALUE=DATE-TIME:20180412T233000
DTEND;TZID=Europe/Berlin;VALUE=DATE-TIME:20180413T013000
DTSTAMP;VALUE=DATE-TIME:20260423T171234Z
UID:59222901831872bea388958aaca13ea1@app-03.tuxwerk.de:8080
CREATED;VALUE=DATE-TIME:20200429T183317Z
DESCRIPTION:Zur aktuellen Situation Brasiliens und der\n\nLandlosenbewegun
 g MST
LAST-MODIFIED;VALUE=DATE-TIME:20200429T183317Z
LOCATION:Esslingen am Neckar
URL:https://www.kooperation-brasilien.org/de/veranstaltungen/termine/zivil
 gesellschaft-unter-druck-1
END:VEVENT
BEGIN:VTIMEZONE
TZID:Europe/Berlin
X-LIC-LOCATION:Europe/Berlin
BEGIN:DAYLIGHT
DTSTART;VALUE=DATE-TIME:20180325T030000
TZNAME:CEST
TZOFFSETFROM:+0100
TZOFFSETTO:+0200
END:DAYLIGHT
END:VTIMEZONE
END:VCALENDAR
