BEGIN:VCALENDAR
VERSION:2.0
PRODID:-//Plone.org//NONSGML plone.app.event//EN
X-WR-TIMEZONE:Europe/Berlin
BEGIN:VEVENT
SUMMARY:Workshopreihe: Imperiale Lebensweise
DTSTART;TZID=Europe/Berlin;VALUE=DATE-TIME:20210511T180000
DTEND;TZID=Europe/Berlin;VALUE=DATE-TIME:20210616T203000
DTSTAMP;VALUE=DATE-TIME:20260423T151523Z
UID:ee82c0cc49814db782541ab09a5fd084@app-03.tuxwerk.de:8080
CREATED;VALUE=DATE-TIME:20210503T083507Z
DESCRIPTION:Eine Workshopreihe des LAI in Kooperation mit der Werkstatt f
 ür Klima\, Arbeit und Zukunft (KAUZ).\n\nIn dieser Worshopreihe werden an
 hand des Konzepts der „Imperialen Lebensweise“ (Wissen/Brand\, 2017) d
 ie systemischen Wurzeln der aktuellen Krisen und Ungleichheiten ergründet
 .  In verschiedenen interaktiven Übungen wird dies mit praktischen Beispi
 elen und den eigenen (Alltags-)Erfahrungen verknüpft. Ein Fokus liegt dab
 ei auf den Auswirkungen der „Imperialen Lebensweise“ auf Lateinamerika
 .
LAST-MODIFIED;VALUE=DATE-TIME:20210503T100940Z
LOCATION:Online
URL:https://www.kooperation-brasilien.org/de/veranstaltungen/termine/works
 hopreihe-imperiale-lebensweise
END:VEVENT
BEGIN:VTIMEZONE
TZID:Europe/Berlin
X-LIC-LOCATION:Europe/Berlin
BEGIN:DAYLIGHT
DTSTART;VALUE=DATE-TIME:20210328T030000
TZNAME:CEST
TZOFFSETFROM:+0100
TZOFFSETTO:+0200
END:DAYLIGHT
END:VTIMEZONE
END:VCALENDAR
