BEGIN:VCALENDAR
VERSION:2.0
PRODID:-//Plone.org//NONSGML plone.app.event//EN
X-WR-TIMEZONE:Europe/Berlin
BEGIN:VEVENT
SUMMARY:Wie können Deutschland und EU auf die Bolsonaro-Regierung in Bras
 ilien Einfluss nehmen?
DTSTART;TZID=Europe/Berlin;VALUE=DATE-TIME:20190613T220000
DTEND;TZID=Europe/Berlin;VALUE=DATE-TIME:20190614T000000
DTSTAMP;VALUE=DATE-TIME:20260421T103708Z
UID:dae22b47013b5678d596c4c45cfbdd3d@app-03.tuxwerk.de:8080
CREATED;VALUE=DATE-TIME:20200429T183311Z
DESCRIPTION:Stellungnahme des Grünen-Bundestagsabgeordneten Jürgen Tritt
 in
LAST-MODIFIED;VALUE=DATE-TIME:20200429T183311Z
LOCATION:Osnabrück
URL:https://www.kooperation-brasilien.org/de/veranstaltungen/termine/wie-k
 oennen-deutschland-und-eu-auf-die-bolsonaro-regierung-in-brasilien-einflus
 s-nehmen
END:VEVENT
BEGIN:VTIMEZONE
TZID:Europe/Berlin
X-LIC-LOCATION:Europe/Berlin
BEGIN:DAYLIGHT
DTSTART;VALUE=DATE-TIME:20190331T030000
TZNAME:CEST
TZOFFSETFROM:+0100
TZOFFSETTO:+0200
END:DAYLIGHT
END:VTIMEZONE
END:VCALENDAR
