BEGIN:VCALENDAR
VERSION:2.0
PRODID:-//Plone.org//NONSGML plone.app.event//EN
X-WR-TIMEZONE:Europe/Berlin
BEGIN:VEVENT
SUMMARY:Widerstand gegen die Bolsonaro-Regierung
DTSTART;TZID=Europe/Berlin;VALUE=DATE-TIME:20190622T230000
DTEND;TZID=Europe/Berlin;VALUE=DATE-TIME:20190623T010000
DTSTAMP;VALUE=DATE-TIME:20260426T004955Z
UID:b7c393e70706463b71fab1887482693d@app-03.tuxwerk.de:8080
CREATED;VALUE=DATE-TIME:20200429T183306Z
DESCRIPTION:Gewerkschaften in Brasilien setzen sich zur Wehr
LAST-MODIFIED;VALUE=DATE-TIME:20200429T183306Z
LOCATION:Berlin
URL:https://www.kooperation-brasilien.org/de/veranstaltungen/termine/wider
 stand-gegen-die-bolsonaro-regierung
END:VEVENT
BEGIN:VTIMEZONE
TZID:Europe/Berlin
X-LIC-LOCATION:Europe/Berlin
BEGIN:DAYLIGHT
DTSTART;VALUE=DATE-TIME:20190331T030000
TZNAME:CEST
TZOFFSETFROM:+0100
TZOFFSETTO:+0200
END:DAYLIGHT
END:VTIMEZONE
END:VCALENDAR
