BEGIN:VCALENDAR
VERSION:2.0
PRODID:-//Plone.org//NONSGML plone.app.event//EN
X-WR-TIMEZONE:Europe/Berlin
BEGIN:VEVENT
SUMMARY:Water stories... Internationale Welt-Wasser-Woche
DTSTART;TZID=Europe/Berlin;VALUE=DATE-TIME:20210820T090000
DTEND;TZID=Europe/Berlin;VALUE=DATE-TIME:20210820T100000
DTSTAMP;VALUE=DATE-TIME:20260426T025103Z
UID:a085b026849844788e4e82ec2dacf8f9@app-03.tuxwerk.de:8080
CREATED;VALUE=DATE-TIME:20210820T071827Z
DESCRIPTION:Das Recht auf sauberes Wasser und auf Abwasserentsorgung ist T
 eil des politischen Kampfes vieler Betroffener in Ländern wie Brasilien. 
 Die schweizer Hilfsorganisation HEKS beteiligt sich mit 2 Beiträgen aus M
 inas Gerais (Beispiel Rio Pardo) und einer neuen Visualisierung des Wasser
 flusses an der Internationalen Welt-Wasser-Woche.
LAST-MODIFIED;VALUE=DATE-TIME:20210820T071832Z
URL:https://www.kooperation-brasilien.org/de/veranstaltungen/termine/water
 -stories-internationale-welt-wasser-woche
END:VEVENT
BEGIN:VTIMEZONE
TZID:Europe/Berlin
X-LIC-LOCATION:Europe/Berlin
BEGIN:DAYLIGHT
DTSTART;VALUE=DATE-TIME:20210328T030000
TZNAME:CEST
TZOFFSETFROM:+0100
TZOFFSETTO:+0200
END:DAYLIGHT
END:VTIMEZONE
END:VCALENDAR
