BEGIN:VCALENDAR
VERSION:2.0
PRODID:-//Plone.org//NONSGML plone.app.event//EN
X-WR-TIMEZONE:Europe/Berlin
BEGIN:VEVENT
SUMMARY:Wälder der Welt
DTSTART;TZID=Europe/Berlin;VALUE=DATE-TIME:20151122T130000
DTEND;TZID=Europe/Berlin;VALUE=DATE-TIME:20151122T200000
DTSTAMP;VALUE=DATE-TIME:20260423T155711Z
UID:71e13b657e5970e3ce5a3de9e136fc59@app-03.tuxwerk.de:8080
CATEGORIES:Menschenrechte und Gesellschaft,Amazonien,Soziale Bewegungen,Wa
 ld und Klima,Landkonflikte und Umwelt,Politik und Wirtschaft
CREATED;VALUE=DATE-TIME:20200429T183249Z
DESCRIPTION:Der Name Brasiliens geht auf die portugiesische Bezeichnung 
 „pau brasil“ für den Brasilholz-Baum zurück und verweist auf die jah
 rhundertelange Bedeutung des Holzexports.
LAST-MODIFIED;VALUE=DATE-TIME:20200429T183249Z
LOCATION:Freiburg
URL:https://www.kooperation-brasilien.org/de/veranstaltungen/termine/waeld
 er-der-welt
END:VEVENT
BEGIN:VTIMEZONE
TZID:Europe/Berlin
X-LIC-LOCATION:Europe/Berlin
BEGIN:STANDARD
DTSTART;VALUE=DATE-TIME:20151025T020000
TZNAME:CET
TZOFFSETFROM:+0200
TZOFFSETTO:+0100
END:STANDARD
END:VTIMEZONE
END:VCALENDAR
