BEGIN:VCALENDAR
VERSION:2.0
PRODID:-//Plone.org//NONSGML plone.app.event//EN
X-WR-TIMEZONE:Europe/Berlin
BEGIN:VEVENT
SUMMARY:VW und Mercedes Benz: Komplizen der Militärdiktaturen in Brasilie
 n und Argentinien? - Überlebende der Folter belasten Manager der Tochteru
 nternehmen der deutschen Konzerne
DTSTART;TZID=Europe/Berlin;VALUE=DATE-TIME:20171107T210000
DTEND;TZID=Europe/Berlin;VALUE=DATE-TIME:20171107T230000
DTSTAMP;VALUE=DATE-TIME:20260423T193113Z
UID:71f4ac1dbcc7072920d3a3ed5b64c6fc@app-03.tuxwerk.de:8080
CREATED;VALUE=DATE-TIME:20200429T183248Z
DESCRIPTION:Abendveranstaltung mit:\n\nLúcio Bellentani (ehemaliger Arbei
 ter von VW Brasil in São Paulo) und Héctor Ratto (ehemaliger Arbeiter be
 i Mercedes Benz in Buenos Aires)\, Heike Hänsel (MdB\, Die Linke)\, Wolfg
 ang Kaleck und Claudia Müller-Hoff (beide ECCHR)\n\n
LAST-MODIFIED;VALUE=DATE-TIME:20200429T183248Z
LOCATION:Berlin
URL:https://www.kooperation-brasilien.org/de/veranstaltungen/termine/vw-un
 d-mercedes-benz-komplizen-der-militaerdiktaturen-in-brasilien-und-argentin
 ien-ueberlebende-der-folter-belasten-manager-der-tochterunternehmen-der-de
 utschen-konzerne
END:VEVENT
BEGIN:VTIMEZONE
TZID:Europe/Berlin
X-LIC-LOCATION:Europe/Berlin
BEGIN:STANDARD
DTSTART;VALUE=DATE-TIME:20171029T020000
TZNAME:CET
TZOFFSETFROM:+0200
TZOFFSETTO:+0100
END:STANDARD
END:VTIMEZONE
END:VCALENDAR
