BEGIN:VCALENDAR
VERSION:2.0
PRODID:-//Plone.org//NONSGML plone.app.event//EN
X-WR-TIMEZONE:Europe/Berlin
BEGIN:VEVENT
SUMMARY:Vortrag von Vandria Borari mit Live Musik von as Karuanas
DTSTART;TZID=Europe/Berlin;VALUE=DATE-TIME:20240714T170000
DTSTAMP;VALUE=DATE-TIME:20260420T042208Z
UID:a0bd263c78b54080855f27eccceb8122@app-03.tuxwerk.de:8080
CREATED;VALUE=DATE-TIME:20240708T093250Z
DESCRIPTION:PAKT e.V. arbeitet seit 2020 mit As Karuanas (indigiener\, pol
 itischer Frauenchor) und Vandria Borari zusammen und unterstützt ihren Ka
 mpf ohne Waffen für die Erhaltung des Regenwaldes.\n \nIm Juli 2024 treff
 en sich 7 Karuanas zum 2. Mal in Freiburg und berichten von Ihren Kampf.\n
 Vandria wird im Rahmen des Vortrages aus Ihrem Leben\, von as Karuanas und
  Ihrem Kampf im Amazonas berichten und für Fragen zur Verfügung stehen. 
 Begleitet wird der Vortrag mit Live Musik von\nAs Karuanas aus dem Amazona
 s.
LAST-MODIFIED;VALUE=DATE-TIME:20241008T105219Z
LOCATION:Imkerei Chab\, Engenberg 17 Neuhäuser\, Kirchzarten
URL:https://www.kooperation-brasilien.org/de/veranstaltungen/termine/vortr
 ag-von-vandria-borari-mit-live-musik-von-as-karuanas
END:VEVENT
BEGIN:VTIMEZONE
TZID:Europe/Berlin
X-LIC-LOCATION:Europe/Berlin
BEGIN:DAYLIGHT
DTSTART;VALUE=DATE-TIME:20240331T030000
TZNAME:CEST
TZOFFSETFROM:+0100
TZOFFSETTO:+0200
END:DAYLIGHT
END:VTIMEZONE
END:VCALENDAR
