BEGIN:VCALENDAR
VERSION:2.0
PRODID:-//Plone.org//NONSGML plone.app.event//EN
X-WR-TIMEZONE:Europe/Berlin
BEGIN:VEVENT
SUMMARY:Marielles Vermächtnis - Vortrag mit Mônica Francisco
DTSTART;TZID=Europe/Berlin;VALUE=DATE-TIME:20190324T180000
DTEND;TZID=Europe/Berlin;VALUE=DATE-TIME:20190324T230000
DTSTAMP;VALUE=DATE-TIME:20260426T042147Z
UID:13f72e29f6f9cb71dae0b0b571056eb9@app-03.tuxwerk.de:8080
CREATED;VALUE=DATE-TIME:20200429T183245Z
LAST-MODIFIED;VALUE=DATE-TIME:20200429T183245Z
LOCATION:Berlin
URL:https://www.kooperation-brasilien.org/de/veranstaltungen/termine/vortr
 ag-von-monica-francisco-am-festival-marco-negra
END:VEVENT
BEGIN:VTIMEZONE
TZID:Europe/Berlin
X-LIC-LOCATION:Europe/Berlin
BEGIN:STANDARD
DTSTART;VALUE=DATE-TIME:20181028T020000
TZNAME:CET
TZOFFSETFROM:+0200
TZOFFSETTO:+0100
END:STANDARD
END:VTIMEZONE
END:VCALENDAR
