BEGIN:VCALENDAR
VERSION:2.0
PRODID:-//Plone.org//NONSGML plone.app.event//EN
X-WR-TIMEZONE:Europe/Berlin
BEGIN:VEVENT
SUMMARY:Vortrag: "Mais Médicos para o Brasil". Die medizinische Kooperati
 on Kuba – Brasilien
DTSTART;TZID=Europe/Berlin;VALUE=DATE-TIME:20170309T190000
DTEND;TZID=Europe/Berlin;VALUE=DATE-TIME:20170309T203000
DTSTAMP;VALUE=DATE-TIME:20260421T041252Z
UID:15626d87f3b9fdd9009ce151c1737e48@app-03.tuxwerk.de:8080
CREATED;VALUE=DATE-TIME:20200429T183235Z
DESCRIPTION:Vortragsreihe "Wissensproduktion und Kulturtransfer im transre
 gionalen Kontext"
LAST-MODIFIED;VALUE=DATE-TIME:20200429T183235Z
LOCATION:Berlin
URL:https://www.kooperation-brasilien.org/de/veranstaltungen/termine/vortr
 ag-mais-medicos-para-o-brasil.-die-medizinische-kooperation-kuba-2013-bras
 ilien
END:VEVENT
BEGIN:VTIMEZONE
TZID:Europe/Berlin
X-LIC-LOCATION:Europe/Berlin
BEGIN:STANDARD
DTSTART;VALUE=DATE-TIME:20161030T020000
TZNAME:CET
TZOFFSETFROM:+0200
TZOFFSETTO:+0100
END:STANDARD
END:VTIMEZONE
END:VCALENDAR
