BEGIN:VCALENDAR
VERSION:2.0
PRODID:-//Plone.org//NONSGML plone.app.event//EN
X-WR-TIMEZONE:Europe/Berlin
BEGIN:VEVENT
SUMMARY:"Violência contra a mulher: Resista!"
DTSTART;TZID=Europe/Berlin;VALUE=DATE-TIME:20190304T203000
DTEND;TZID=Europe/Berlin;VALUE=DATE-TIME:20190304T230000
DTSTAMP;VALUE=DATE-TIME:20260421T072037Z
UID:fbd4c6f8e2651034ee9a3c18797adc9a@app-03.tuxwerk.de:8080
CREATED;VALUE=DATE-TIME:20200429T183225Z
DESCRIPTION:Palestra e roda de discussão com a psicóloga e psicanalista 
 Dra. Maria Arleide da Silva
LAST-MODIFIED;VALUE=DATE-TIME:20200429T183225Z
LOCATION:Frankfurt a.M.
URL:https://www.kooperation-brasilien.org/de/veranstaltungen/termine/viole
 ncia-contra-a-mulher-resista
END:VEVENT
BEGIN:VTIMEZONE
TZID:Europe/Berlin
X-LIC-LOCATION:Europe/Berlin
BEGIN:STANDARD
DTSTART;VALUE=DATE-TIME:20181028T020000
TZNAME:CET
TZOFFSETFROM:+0200
TZOFFSETTO:+0100
END:STANDARD
END:VTIMEZONE
END:VCALENDAR
