BEGIN:VCALENDAR
VERSION:2.0
PRODID:-//Plone.org//NONSGML plone.app.event//EN
X-WR-TIMEZONE:Europe/Berlin
BEGIN:VEVENT
SUMMARY:"Verschollen" - ARD Spielfilm und Dokumentation/Reportage über de
 n Cerrado (2025)
DTSTART;TZID=Europe/Berlin;VALUE=DATE-TIME:20251112T201500
DTEND;TZID=Europe/Berlin;VALUE=DATE-TIME:20251112T221500
DTSTAMP;VALUE=DATE-TIME:20260423T062147Z
UID:0162f3e853f2464db1708ef6ba216337@app-03.tuxwerk.de:8080
CREATED;VALUE=DATE-TIME:20251111T160952Z
DESCRIPTION:Klemens Stadler wird von einem Hilferuf aus Brasilien in Alarm
 zustand versetzt. Er stammt von seinem Sohn Jan\, der als Umweltwissenscha
 ftler in den brasilianischen Wäldern für ein Klimaschutzprojekt arbeitet
 . Weil er von Deutschland aus nichts erreicht\, reist Klemens selbst nach 
 Brasilien\, um nach seinem Sohn zu suchen. Dort scheinen die Mitarbeiter v
 on TreePlanet sich erstaunlich wenig Sorgen zu machen. Die Firma steckt mi
 tten in einem ehrgeizigen Aufforstungsprojekt\, das Jan zertifizieren soll
 te und das nicht ohne Gegner ist. Denn für die neuen Wälder gibt es eine
 n gewaltigen Landbedarf: ganze Dörfer werden dafür zwangsenteignet\, Ind
 igene aus ihren Häusern vertrieben. Bei seinen Recherchen lernt Klemens a
 uch die Leidtragenden des Projekts kennen. Der vormalige Ingenieur wird da
 bei mit immer mehr Ungereimtheiten in den angeblich so vorbildlichen Nachh
 altigkeitsprojekten konfrontiert. Während er Korruption und Gewalt begegn
 et\, beginnt er sich zu fragen\, welche Rolle sein Sohn in diesem undurchs
 ichtigen Netz spielt – und ob er ihn lebend wiederfinden wird.
LAST-MODIFIED;VALUE=DATE-TIME:20251111T161142Z
URL:https://www.kooperation-brasilien.org/de/veranstaltungen/termine/versc
 hollen-ard-spielfilm-und-dokumentation-reportage-ueber-den-cerrado-2025
END:VEVENT
BEGIN:VTIMEZONE
TZID:Europe/Berlin
X-LIC-LOCATION:Europe/Berlin
BEGIN:STANDARD
DTSTART;VALUE=DATE-TIME:20251026T020000
TZNAME:CET
TZOFFSETFROM:+0200
TZOFFSETTO:+0100
END:STANDARD
END:VTIMEZONE
END:VCALENDAR
