BEGIN:VCALENDAR
VERSION:2.0
PRODID:-//Plone.org//NONSGML plone.app.event//EN
X-WR-TIMEZONE:Europe/Berlin
BEGIN:VEVENT
SUMMARY:Vernissage der Ausstellung "Rio 2016 - A Estética do Movimento"
DTSTART;TZID=Europe/Berlin;VALUE=DATE-TIME:20160606T233000
DTEND;TZID=Europe/Berlin;VALUE=DATE-TIME:20160607T023000
DTSTAMP;VALUE=DATE-TIME:20260423T171234Z
UID:8c175b671567aaf52d6c9596db49d2d1@app-03.tuxwerk.de:8080
CATEGORIES:Kultur
CREATED;VALUE=DATE-TIME:20200429T183220Z
DESCRIPTION:Montag\, 6. Juni\, um 19.30 Uhr\n\nGalerie im Levantehaus\, M
 önckebergstraße 7\, Hamburg-City.
LAST-MODIFIED;VALUE=DATE-TIME:20200429T183220Z
LOCATION:Hamburg
URL:https://www.kooperation-brasilien.org/de/veranstaltungen/termine/verni
 ssage-der-ausstellung-rio-2016-a-estetica-do-movimento
END:VEVENT
BEGIN:VTIMEZONE
TZID:Europe/Berlin
X-LIC-LOCATION:Europe/Berlin
BEGIN:DAYLIGHT
DTSTART;VALUE=DATE-TIME:20160327T030000
TZNAME:CEST
TZOFFSETFROM:+0100
TZOFFSETTO:+0200
END:DAYLIGHT
END:VTIMEZONE
END:VCALENDAR
