BEGIN:VCALENDAR
VERSION:2.0
PRODID:-//Plone.org//NONSGML plone.app.event//EN
X-WR-TIMEZONE:Europe/Berlin
BEGIN:VEVENT
SUMMARY:Vernetzungstreffen für ein demokratisches Brasilien
DTSTART;TZID=Europe/Berlin;VALUE=DATE-TIME:20190129T203000
DTEND;TZID=Europe/Berlin;VALUE=DATE-TIME:20190129T230000
DTSTAMP;VALUE=DATE-TIME:20260423T120401Z
UID:c9f034c7815f43c43ddaed188e21e84f@app-03.tuxwerk.de:8080
CREATED;VALUE=DATE-TIME:20200429T183216Z
DESCRIPTION:Solidaritätstreffen für FreundInnen eines sozialen und demok
 ratischen Brasilien.\n\nBeratung zur weiteren Zusammenarbeit und Festlegun
 g von weiteren Zielen.
LAST-MODIFIED;VALUE=DATE-TIME:20200429T183216Z
LOCATION:Berlin
URL:https://www.kooperation-brasilien.org/de/veranstaltungen/termine/verne
 tzungstreffen-fuer-ein-demokratisches-brasilien
END:VEVENT
BEGIN:VTIMEZONE
TZID:Europe/Berlin
X-LIC-LOCATION:Europe/Berlin
BEGIN:STANDARD
DTSTART;VALUE=DATE-TIME:20181028T020000
TZNAME:CET
TZOFFSETFROM:+0200
TZOFFSETTO:+0100
END:STANDARD
END:VTIMEZONE
END:VCALENDAR
