BEGIN:VCALENDAR
VERSION:2.0
PRODID:-//Plone.org//NONSGML plone.app.event//EN
X-WR-TIMEZONE:Europe/Berlin
BEGIN:VEVENT
SUMMARY:Verbrenner-Aus? Nicht für Südamerika! Was das EU-Mercosur Abkomm
 en für die Klimakrise bedeutet
DTSTART;TZID=Europe/Berlin;VALUE=DATE-TIME:20230621T183000
DTEND;TZID=Europe/Berlin;VALUE=DATE-TIME:20230621T203000
DTSTAMP;VALUE=DATE-TIME:20260423T032653Z
UID:1361bdb2a2a3404687859ff2bb851be7@app-03.tuxwerk.de:8080
CATEGORIES:EU-Mercosur,Klimagerechtigkeit,Umwelt und Menschenrechte
CREATED;VALUE=DATE-TIME:20230606T081248Z
DESCRIPTION:Veranstaltung des Netzwerk Gerechter Welthandel\n\nKurze Präs
 entation der Studie von Thomas Fritz: "Mobilitätswende ausgebremst: Das E
 U-Mercosur-Abkommen und die Autoindustrie"\n\nAnschließende Podiumsdiskus
 sion mit: Quintino Severo\, Gewerkschaftsführer Brasilien\, CUT (Videobot
 schaft)\, MdB Markus Töns\, SPD\, MdB Kathrin Henneberger\, Bündnis 90/D
 ie Grünen\, Lis Cunha\, Greenpeace Handelsexpertin\n\nModeration: Reinhil
 d Senning\, Teamleiterin Landwirtschaft\, DUH
LAST-MODIFIED;VALUE=DATE-TIME:20230620T102112Z
LOCATION:Hotel Dietrich-Bonhoeffer-Haus\, Ziegelstraße 30\, 10117 Berlin
URL:https://www.kooperation-brasilien.org/de/veranstaltungen/termine/verbr
 enneraus-nicht-fuer-suedamerika-was-das-eu-mercosur-abkommen-fuer-die-klim
 akrise-bedeutet
END:VEVENT
BEGIN:VTIMEZONE
TZID:Europe/Berlin
X-LIC-LOCATION:Europe/Berlin
BEGIN:DAYLIGHT
DTSTART;VALUE=DATE-TIME:20230326T030000
TZNAME:CEST
TZOFFSETFROM:+0100
TZOFFSETTO:+0200
END:DAYLIGHT
END:VTIMEZONE
END:VCALENDAR
