BEGIN:VCALENDAR
VERSION:2.0
PRODID:-//Plone.org//NONSGML plone.app.event//EN
X-WR-TIMEZONE:Europe/Berlin
BEGIN:VEVENT
SUMMARY:Valter Pomar: Demokratie in Gefahr – die aktuelle Lage in Brasil
 ien vor den Wahlen
DTSTART;TZID=Europe/Berlin;VALUE=DATE-TIME:20180531T220000
DTEND;TZID=Europe/Berlin;VALUE=DATE-TIME:20180601T010000
DTSTAMP;VALUE=DATE-TIME:20260423T062823Z
UID:e1b0ea6e451e49fee3df946bd3fc193a@app-03.tuxwerk.de:8080
CREATED;VALUE=DATE-TIME:20200429T183206Z
DESCRIPTION:31.5. um 18.00 Uhr\, Karl Liebknecht Haus\, Rosa Luxemburg Saa
 l\, Kleine Alexanderstraße 28\, 10178 Berlin
LAST-MODIFIED;VALUE=DATE-TIME:20200429T183206Z
LOCATION:Berlin
URL:https://www.kooperation-brasilien.org/de/veranstaltungen/termine/valte
 r-pomar-demokratie-in-gefahr-2013-die-aktuelle-lage-in-brasilien-vor-den-w
 ahlen
END:VEVENT
BEGIN:VTIMEZONE
TZID:Europe/Berlin
X-LIC-LOCATION:Europe/Berlin
BEGIN:DAYLIGHT
DTSTART;VALUE=DATE-TIME:20180325T030000
TZNAME:CEST
TZOFFSETFROM:+0100
TZOFFSETTO:+0200
END:DAYLIGHT
END:VTIMEZONE
END:VCALENDAR
