BEGIN:VCALENDAR
VERSION:2.0
PRODID:-//Plone.org//NONSGML plone.app.event//EN
X-WR-TIMEZONE:Europe/Berlin
BEGIN:VEVENT
SUMMARY:Berliner Brasiliendialog #4: Umwelt: Grenzenlose Zerstörung
DTSTART;TZID=Europe/Berlin;VALUE=DATE-TIME:20210112T180000
DTEND;TZID=Europe/Berlin;VALUE=DATE-TIME:20210112T200000
DTSTAMP;VALUE=DATE-TIME:20260419T210801Z
UID:55fe99ca56904bdda2cca710eeff6347@app-03.tuxwerk.de:8080
CREATED;VALUE=DATE-TIME:20210108T082426Z
DESCRIPTION:aus der Reihe Berliner Brasiliendialoge - Brasilien im multipl
 en Krisenmodus\nEine Kooperation des Maria Sibylla Merian Centre Convivial
 ity-Inequality in Latin America (mecila) mit: Lateinamerika-Institut (LAI)
  der Freien Universität Berlin (FU Berlin)\, Friedrich-Ebert-Stiftung (FE
 S)\, Heinrich-Böll-Stiftung (hbs)\, Rosa-Luxemburg-Stiftung (RLS)\, Forsc
 hungs- und Dokumentationszentrum Chile-Lateinamerika/Brasilien Initiative 
 Berlin (FDCL/BIB)\, katholisches Hilfswerk Misereor (MISEREOR)\, Lateiname
 rika-Forum (LAF)\, Global South Studies Center (GSSC) der Universität zu 
 Köln (UzK).\n\nDie Reihe wird kostenfrei als Zoom-Veranstaltung durchgef
 ührt. In Zoom: Portugiesisch-Deutsch Simultandolmetschung.
LAST-MODIFIED;VALUE=DATE-TIME:20210108T082750Z
LOCATION:Zoom (Link nach Anmeldung)
URL:https://www.kooperation-brasilien.org/de/veranstaltungen/termine/umwel
 t-grenzenlose-zerstoerung
END:VEVENT
BEGIN:VTIMEZONE
TZID:Europe/Berlin
X-LIC-LOCATION:Europe/Berlin
BEGIN:STANDARD
DTSTART;VALUE=DATE-TIME:20201025T020000
TZNAME:CET
TZOFFSETFROM:+0200
TZOFFSETTO:+0100
END:STANDARD
END:VTIMEZONE
END:VCALENDAR
