BEGIN:VCALENDAR
VERSION:2.0
PRODID:-//Plone.org//NONSGML plone.app.event//EN
X-WR-TIMEZONE:Europe/Berlin
BEGIN:VEVENT
SUMMARY:»Um alles in der Welt«
DTSTART;TZID=Europe/Berlin;VALUE=DATE-TIME:20241217T180000
DTEND;TZID=Europe/Berlin;VALUE=DATE-TIME:20241217T200000
DTSTAMP;VALUE=DATE-TIME:20260419T141316Z
UID:8387e2c847ae4d3a957586b2c8d41667@app-03.tuxwerk.de:8080
CONTACT:https://www.iz3w.org/aktuell/online-gespraechscafe-krise-zukunft-n
 ord-sued-berichte
CREATED;VALUE=DATE-TIME:20241125T094744Z
DESCRIPTION:Online-Gesprächscafé zur Zukunft und zu Perspektiven der nor
 dsüd-politischen Medienarbeit
LAST-MODIFIED;VALUE=DATE-TIME:20250220T092624Z
LOCATION:Online - https://us06web.zoom.us/meeting/register/tZwufu6oqTkiGdR
 DXtymd0MuWEIMQS1jKS09#/registration
URL:https://www.kooperation-brasilien.org/de/veranstaltungen/termine/um-al
 les-in-der-welt
END:VEVENT
BEGIN:VTIMEZONE
TZID:Europe/Berlin
X-LIC-LOCATION:Europe/Berlin
BEGIN:STANDARD
DTSTART;VALUE=DATE-TIME:20241027T020000
TZNAME:CET
TZOFFSETFROM:+0200
TZOFFSETTO:+0100
END:STANDARD
END:VTIMEZONE
END:VCALENDAR
