BEGIN:VCALENDAR
VERSION:2.0
PRODID:-//Plone.org//NONSGML plone.app.event//EN
X-WR-TIMEZONE:Europe/Berlin
BEGIN:VEVENT
SUMMARY:Transnationale Dialogprozesse und Kampagnen zu Rohstoffexploration
 en im globalen Süden - am Beispiel Forum Carajás
DTSTART;TZID=Europe/Berlin;VALUE=DATE-TIME:20170110T110000
DTEND;TZID=Europe/Berlin;VALUE=DATE-TIME:20170110T170000
DTSTAMP;VALUE=DATE-TIME:20260421T103619Z
UID:b215bb83f83a7a60ef3db72aea0e5acb@app-03.tuxwerk.de:8080
CREATED;VALUE=DATE-TIME:20200429T183159Z
DESCRIPTION:Erfahrungen von Brot für die Welt und anderen zivilgesellscha
 ftlichen Akteuren
LAST-MODIFIED;VALUE=DATE-TIME:20200429T183159Z
LOCATION:Berlin
URL:https://www.kooperation-brasilien.org/de/veranstaltungen/termine/trans
 nationale-dialogprozesse-und-kampagnen-zu-rohstoffexplorationen-im-globale
 n-sueden
END:VEVENT
BEGIN:VTIMEZONE
TZID:Europe/Berlin
X-LIC-LOCATION:Europe/Berlin
BEGIN:STANDARD
DTSTART;VALUE=DATE-TIME:20161030T020000
TZNAME:CET
TZOFFSETFROM:+0200
TZOFFSETTO:+0100
END:STANDARD
END:VTIMEZONE
END:VCALENDAR
