BEGIN:VCALENDAR
VERSION:2.0
PRODID:-//Plone.org//NONSGML plone.app.event//EN
X-WR-TIMEZONE:Europe/Berlin
BEGIN:VEVENT
SUMMARY:Traditionell Zukunftsfähig
DTSTART;TZID=Europe/Berlin;VALUE=DATE-TIME:20170623T220000
DTEND;TZID=Europe/Berlin;VALUE=DATE-TIME:20170626T170000
DTSTAMP;VALUE=DATE-TIME:20260421T101542Z
UID:0aeb5d17e762f8b8e9b5af23d067e2cf@app-03.tuxwerk.de:8080
CATEGORIES:Traditionelle Völker und Gemeinschaften
CREATED;VALUE=DATE-TIME:20200429T183155Z
DESCRIPTION:Evang. Tagungsstätte Hofgeismar
LAST-MODIFIED;VALUE=DATE-TIME:20200429T183155Z
LOCATION:Hofgeismar
URL:https://www.kooperation-brasilien.org/de/veranstaltungen/termine/tradi
 tionell-zukunftsfaehig
END:VEVENT
BEGIN:VTIMEZONE
TZID:Europe/Berlin
X-LIC-LOCATION:Europe/Berlin
BEGIN:DAYLIGHT
DTSTART;VALUE=DATE-TIME:20170326T030000
TZNAME:CEST
TZOFFSETFROM:+0100
TZOFFSETTO:+0200
END:DAYLIGHT
END:VTIMEZONE
END:VCALENDAR
