BEGIN:VCALENDAR
VERSION:2.0
PRODID:-//Plone.org//NONSGML plone.app.event//EN
X-WR-TIMEZONE:Europe/Berlin
BEGIN:VEVENT
SUMMARY:This is our Everything - Film und Diskussion
DTSTART;TZID=Europe/Berlin;VALUE=DATE-TIME:20240809T183000
DTSTAMP;VALUE=DATE-TIME:20260422T102001Z
UID:8a0ec2d4dd2e40fcb79b68712666c12b@app-03.tuxwerk.de:8080
CONTACT:https://www.freiluftkino-hasenheide.de/filme/this-is-our-everythin
 g-38153/
CREATED;VALUE=DATE-TIME:20240729T101130Z
DESCRIPTION:"Tag der indigenen Völker" – Anschl. Filmgespräch mit Surv
 ival International und Filmteam
LAST-MODIFIED;VALUE=DATE-TIME:20240729T101208Z
LOCATION:Freiluftkino Hasenheide\, Berlin
URL:https://www.kooperation-brasilien.org/de/veranstaltungen/termine/this-
 is-our-everything-film-und-diskussion
END:VEVENT
BEGIN:VTIMEZONE
TZID:Europe/Berlin
X-LIC-LOCATION:Europe/Berlin
BEGIN:DAYLIGHT
DTSTART;VALUE=DATE-TIME:20240331T030000
TZNAME:CEST
TZOFFSETFROM:+0100
TZOFFSETTO:+0200
END:DAYLIGHT
END:VTIMEZONE
END:VCALENDAR
