BEGIN:VCALENDAR
VERSION:2.0
PRODID:-//Plone.org//NONSGML plone.app.event//EN
X-WR-TIMEZONE:Europe/Berlin
BEGIN:VEVENT
SUMMARY:The Illusion of Abundance
DTSTART;TZID=Europe/Berlin;VALUE=DATE-TIME:20251028T193000
DTEND;TZID=Europe/Berlin;VALUE=DATE-TIME:20251028T213000
DTSTAMP;VALUE=DATE-TIME:20260425T124941Z
UID:fec43f96a9314a09bb1feef3722d5a2a@app-03.tuxwerk.de:8080
CATEGORIES:Brumadinho,TÜV SÜD,Menschenrechte,Bergbau,Konzernkritik,Umwel
 t
CONTACT:https://www.allerweltshaus.de/veranstaltungen/the-illusion-of-abun
 dance
CREATED;VALUE=DATE-TIME:20251020T092107Z
DESCRIPTION:Film- und Diskussionsveranstaltung
LAST-MODIFIED;VALUE=DATE-TIME:20251020T092155Z
LOCATION:Allerweltshaus Köln\, Geisselstr. 3-5\, 50823 Köln
URL:https://www.kooperation-brasilien.org/de/veranstaltungen/termine/the-i
 llusion-of-abundance
END:VEVENT
BEGIN:VTIMEZONE
TZID:Europe/Berlin
X-LIC-LOCATION:Europe/Berlin
BEGIN:STANDARD
DTSTART;VALUE=DATE-TIME:20251026T020000
TZNAME:CET
TZOFFSETFROM:+0200
TZOFFSETTO:+0100
END:STANDARD
END:VTIMEZONE
END:VCALENDAR
