BEGIN:VCALENDAR
VERSION:2.0
PRODID:-//Plone.org//NONSGML plone.app.event//EN
X-WR-TIMEZONE:Europe/Berlin
BEGIN:VEVENT
SUMMARY:Tagung "Natur im Dienst von Klimapolitik und Bioökonomie?"
DTSTART;TZID=Europe/Berlin;VALUE=DATE-TIME:20161116T120000
DTEND;TZID=Europe/Berlin;VALUE=DATE-TIME:20161116T200000
DTSTAMP;VALUE=DATE-TIME:20260420T110524Z
UID:5bef99c209acc7644888ea147bc4d324@app-03.tuxwerk.de:8080
CREATED;VALUE=DATE-TIME:20200429T183150Z
DESCRIPTION:Die Biodiversitätskonvention und die Zukunft der Nutzung von 
 Land und biologischer Vielfalt
LAST-MODIFIED;VALUE=DATE-TIME:20200429T183150Z
LOCATION:Berlin
URL:https://www.kooperation-brasilien.org/de/veranstaltungen/termine/tagun
 g-natur-im-dienst-von-klimapolitik-und-biooekonomie
END:VEVENT
BEGIN:VTIMEZONE
TZID:Europe/Berlin
X-LIC-LOCATION:Europe/Berlin
BEGIN:STANDARD
DTSTART;VALUE=DATE-TIME:20161030T020000
TZNAME:CET
TZOFFSETFROM:+0200
TZOFFSETTO:+0100
END:STANDARD
END:VTIMEZONE
END:VCALENDAR
