BEGIN:VCALENDAR
VERSION:2.0
PRODID:-//Plone.org//NONSGML plone.app.event//EN
X-WR-TIMEZONE:Europe/Berlin
BEGIN:VEVENT
SUMMARY:Straßenkinderprojekt: Casas Taiguara
DTSTART;TZID=Europe/Berlin;VALUE=DATE-TIME:20150302T213000
DTEND;TZID=Europe/Berlin;VALUE=DATE-TIME:20150303T004500
DTSTAMP;VALUE=DATE-TIME:20260423T110013Z
UID:ab48674c7e6aaf5211acb11ace78eab2@app-03.tuxwerk.de:8080
CATEGORIES:Stadt,Kinder und Jugendliche
CONTACT:Brasilieninitiative Freiburg\, 07 61 / 5 56 25 72
CREATED;VALUE=DATE-TIME:20200429T183144Z
DESCRIPTION:Renee Amorim\, einer der verantwortlichen Leiter des Straßenk
 inderprojekts Casas Taiguara aus São Paulo\, für eine Vortragsreise nach
  Deutschland.
LAST-MODIFIED;VALUE=DATE-TIME:20200429T183144Z
LOCATION:Freiburg
URL:https://www.kooperation-brasilien.org/de/veranstaltungen/termine/stras
 senkinderprojekt-casas-taiguara
END:VEVENT
BEGIN:VTIMEZONE
TZID:Europe/Berlin
X-LIC-LOCATION:Europe/Berlin
BEGIN:STANDARD
DTSTART;VALUE=DATE-TIME:20141026T020000
TZNAME:CET
TZOFFSETFROM:+0200
TZOFFSETTO:+0100
END:STANDARD
END:VTIMEZONE
END:VCALENDAR
