BEGIN:VCALENDAR
VERSION:2.0
PRODID:-//Plone.org//NONSGML plone.app.event//EN
X-WR-TIMEZONE:Europe/Berlin
BEGIN:VEVENT
SUMMARY:Stadtentwicklung von unten - Wohnungslosenbewegungen in São Paulo
DTSTART;TZID=Europe/Berlin;VALUE=DATE-TIME:20170126T213000
DTEND;TZID=Europe/Berlin;VALUE=DATE-TIME:20170126T230000
DTSTAMP;VALUE=DATE-TIME:20260423T120412Z
UID:11063c043796ea823b4242c34b54634c@app-03.tuxwerk.de:8080
CREATED;VALUE=DATE-TIME:20200429T183139Z
DESCRIPTION:Vortrag und Diskussion mit Niklas Franzen zum Recht auf Wohnen
  in Brasilien\n\n
LAST-MODIFIED;VALUE=DATE-TIME:20200429T183139Z
LOCATION:Köln
URL:https://www.kooperation-brasilien.org/de/veranstaltungen/termine/stadt
 entwicklung-von-unten-wohnungslosenbewegungen-in-sao-paulo
END:VEVENT
BEGIN:VTIMEZONE
TZID:Europe/Berlin
X-LIC-LOCATION:Europe/Berlin
BEGIN:STANDARD
DTSTART;VALUE=DATE-TIME:20161030T020000
TZNAME:CET
TZOFFSETFROM:+0200
TZOFFSETTO:+0100
END:STANDARD
END:VTIMEZONE
END:VCALENDAR
