BEGIN:VCALENDAR
VERSION:2.0
PRODID:-//Plone.org//NONSGML plone.app.event//EN
X-WR-TIMEZONE:Europe/Berlin
BEGIN:VEVENT
SUMMARY:(staatlich geprüft) Brazilian crisis X Der Weg des Wandels
DTSTART;TZID=Europe/Berlin;VALUE=DATE-TIME:20170628T220000
DTEND;TZID=Europe/Berlin;VALUE=DATE-TIME:20170629T000000
DTSTAMP;VALUE=DATE-TIME:20260421T163631Z
UID:e2748e1ec0bac4be4597aaa33dad4997@app-03.tuxwerk.de:8080
CREATED;VALUE=DATE-TIME:20200429T183137Z
DESCRIPTION:Das STUDIO 1\, Bethanien\, präsentiert zusammen mit den staat
 lich geprüften Fotodesignern des Lette Vereins:\n\n\n
LAST-MODIFIED;VALUE=DATE-TIME:20200429T183137Z
LOCATION:Kunstquartier Bethanien\, 2 Mariannen Platz\, 10997 Berlin
URL:https://www.kooperation-brasilien.org/de/veranstaltungen/termine/staat
 lich-geprueft-brazilian-crisis-x-der-weg-des-wandels
END:VEVENT
BEGIN:VTIMEZONE
TZID:Europe/Berlin
X-LIC-LOCATION:Europe/Berlin
BEGIN:DAYLIGHT
DTSTART;VALUE=DATE-TIME:20170326T030000
TZNAME:CEST
TZOFFSETFROM:+0100
TZOFFSETTO:+0200
END:DAYLIGHT
END:VTIMEZONE
END:VCALENDAR
