BEGIN:VCALENDAR
VERSION:2.0
PRODID:-//Plone.org//NONSGML plone.app.event//EN
X-WR-TIMEZONE:Europe/Berlin
BEGIN:VEVENT
SUMMARY:SOS Brasilien – Schweiz muss handeln!
DTSTART;TZID=Europe/Berlin;VALUE=DATE-TIME:20191107T200000
DTEND;TZID=Europe/Berlin;VALUE=DATE-TIME:20191107T231500
DTSTAMP;VALUE=DATE-TIME:20260424T042712Z
UID:ad4ac2e60e707e0038d7a4c20695cbd7@app-03.tuxwerk.de:8080
CREATED;VALUE=DATE-TIME:20200429T183132Z
DESCRIPTION:Brasilianische Indigene demonstrieren in Bern für ihre Rechte
 \n\nund die Umwelt. Unterstütze sie und geh mit ihnen auf die\n\nStrasse!
LAST-MODIFIED;VALUE=DATE-TIME:20200429T183132Z
LOCATION:Bern
URL:https://www.kooperation-brasilien.org/de/veranstaltungen/termine/sos-b
 rasilien-2013-schweiz-muss-handeln
END:VEVENT
BEGIN:VTIMEZONE
TZID:Europe/Berlin
X-LIC-LOCATION:Europe/Berlin
BEGIN:STANDARD
DTSTART;VALUE=DATE-TIME:20191027T020000
TZNAME:CET
TZOFFSETFROM:+0200
TZOFFSETTO:+0100
END:STANDARD
END:VTIMEZONE
END:VCALENDAR
