BEGIN:VCALENDAR
VERSION:2.0
PRODID:-//Plone.org//NONSGML plone.app.event//EN
X-WR-TIMEZONE:Europe/Berlin
BEGIN:VEVENT
SUMMARY:SOLIKON - Kongress Solidarische Ökonomie 2015
DTSTART;TZID=Europe/Berlin;VALUE=DATE-TIME:20150910T040000
DTEND;TZID=Europe/Berlin;VALUE=DATE-TIME:20150913T040000
DTSTAMP;VALUE=DATE-TIME:20260420T041932Z
UID:9d5e014da5819c68bd6d291b338c43b0@app-03.tuxwerk.de:8080
CREATED;VALUE=DATE-TIME:20200429T183130Z
DESCRIPTION:Aus dem Globalen Süden lernen\,\n\n10. - 13. September 2015\,
 \n\nTechnische Universität Berlin\,\n\nStraße des 17.Juni\, 136
LAST-MODIFIED;VALUE=DATE-TIME:20200429T183130Z
LOCATION:Berlin
URL:https://www.kooperation-brasilien.org/de/veranstaltungen/termine/solik
 on-kongress-solidarische-oekonomie-2015
END:VEVENT
BEGIN:VTIMEZONE
TZID:Europe/Berlin
X-LIC-LOCATION:Europe/Berlin
BEGIN:DAYLIGHT
DTSTART;VALUE=DATE-TIME:20150329T030000
TZNAME:CEST
TZOFFSETFROM:+0100
TZOFFSETTO:+0200
END:DAYLIGHT
END:VTIMEZONE
END:VCALENDAR
