BEGIN:VCALENDAR
VERSION:2.0
PRODID:-//Plone.org//NONSGML plone.app.event//EN
X-WR-TIMEZONE:Europe/Berlin
BEGIN:VEVENT
SUMMARY:Solidarität mit Brumadinho - 1.000 Tage Straffreiheit (port./engl
 .)
DTSTART;TZID=Europe/Berlin;VALUE=DATE-TIME:20211021T150000
DTEND;TZID=Europe/Berlin;VALUE=DATE-TIME:20211021T163000
DTSTAMP;VALUE=DATE-TIME:20260419T224252Z
UID:bdc4ca8112fe418da4535ad4e29adfaa@app-03.tuxwerk.de:8080
CATEGORIES:Bergbau,Vale,Unternehmensverantwortung,TÜV SÜD
CREATED;VALUE=DATE-TIME:20211001T064901Z
DESCRIPTION:Am 21. Oktober 2021 sind 1.000 Tage vergangen\, seit der Damm 
 einer Eisenmine des Brasilianischen Bergbauunternehmens Vale gebrochen ist
  und 272 Menschen getötet hat. Nur vier Monate zuvor hat der Brasilianisc
 he Ableger des Deutschen Prüfunternehmens TÜV SÜD die Sicherheit des Da
 mms bestätigt\, obwohl Sicherheitsrisiken bekannt waren. Von den 272 Opfe
 rn bleiben neun im Schlamm verschollen. Bis zum heutigen Tag ist keine der
  verantwortlichen Personen verurteilt worden. Sowohl das Bergbauunternehme
 n Vale als auch der Versicherer TÜV SÜD sind straffrei geblieben.\n\nOn 
 21 October 2021\, 1000 days will have passed since a dam at an iron ore mi
 ne operated by the Brazilian mining company Vale collapsed\, killing 272 p
 eople. Only four months earlier\, the Brazilian subsidiary of German certi
 fier TÜV SÜD confirmed the dam’s safety\, despite known safety risks. 
 Of the 272 victims\, nine remain unfound in the sea of mud. To date\, not 
 one person has been convicted. Impunity prevails for the mining company Va
 le and the German certifier TÜV SÜD.
LAST-MODIFIED;VALUE=DATE-TIME:20211206T182004Z
URL:https://www.kooperation-brasilien.org/de/veranstaltungen/termine/solid
 aritaet-mit-brumadinho-1-000-tage-straffreiheit-port-engl
END:VEVENT
BEGIN:VTIMEZONE
TZID:Europe/Berlin
X-LIC-LOCATION:Europe/Berlin
BEGIN:DAYLIGHT
DTSTART;VALUE=DATE-TIME:20210328T030000
TZNAME:CEST
TZOFFSETFROM:+0100
TZOFFSETTO:+0200
END:DAYLIGHT
END:VTIMEZONE
END:VCALENDAR
