BEGIN:VCALENDAR
VERSION:2.0
PRODID:-//Plone.org//NONSGML plone.app.event//EN
X-WR-TIMEZONE:Europe/Berlin
BEGIN:VEVENT
SUMMARY:Syngenta: Dem Basler Agromulti auf der Spur
DTSTART;TZID=Europe/Berlin;VALUE=DATE-TIME:20160421T230000
DTEND;TZID=Europe/Berlin;VALUE=DATE-TIME:20160429T000000
DTSTAMP;VALUE=DATE-TIME:20260419T184716Z
UID:7069f4c2feb18ccdd8823a178a4d2392@app-03.tuxwerk.de:8080
CATEGORIES:Recht auf Nahrung,Landkonflikte und Umwelt,Politik und Wirtscha
 ft
CREATED;VALUE=DATE-TIME:20200429T183126Z
DESCRIPTION:Multiwatch präsentiert zusammen mit MST-Aktivist Celsio Ribei
 ro Barbosa aus Brasilien das im April erscheinende Schwarzbuch Syngenta.\n
 \nDetails zu den einzelnen Veranstaltungsorten im Flyer (s.u.)
LAST-MODIFIED;VALUE=DATE-TIME:20200429T183127Z
LOCATION:Basel\, Zürich\, Bern\, Genf\, Luzern\, Eichstetten (D)
URL:https://www.kooperation-brasilien.org/de/veranstaltungen/termine/schwa
 rzbuch-syngenta
END:VEVENT
BEGIN:VTIMEZONE
TZID:Europe/Berlin
X-LIC-LOCATION:Europe/Berlin
BEGIN:DAYLIGHT
DTSTART;VALUE=DATE-TIME:20160327T030000
TZNAME:CEST
TZOFFSETFROM:+0100
TZOFFSETTO:+0200
END:DAYLIGHT
END:VTIMEZONE
END:VCALENDAR
