BEGIN:VCALENDAR
VERSION:2.0
PRODID:-//Plone.org//NONSGML plone.app.event//EN
X-WR-TIMEZONE:Europe/Berlin
BEGIN:VEVENT
SUMMARY:Say it mobile! Mobile Reporting Video-Workshop für Jugendliche un
 d junge Erwachsene
DTSTART;TZID=Europe/Berlin;VALUE=DATE-TIME:20160808T140000
DTEND;TZID=Europe/Berlin;VALUE=DATE-TIME:20160809T200000
DTSTAMP;VALUE=DATE-TIME:20260425T210013Z
UID:711131f73f0f9630bdc12dcd40377b0a@app-03.tuxwerk.de:8080
CONTACT:Petra Pint\, +43 (0) 1 317 40 10\, p.pint@frauensolidaritaet.org
CREATED;VALUE=DATE-TIME:20200429T183123Z
DESCRIPTION:Workshop zum Thema Frauenstimmen\, Frauen- und Arbeitsrechte r
 und um sportliche Großereignisse und die Rolle von Aktivist_innen\, Konsu
 ment_innen\, Sportler_innen und Unternehmer_innen.
LAST-MODIFIED;VALUE=DATE-TIME:20200429T183123Z
LOCATION:Wien
URL:https://www.kooperation-brasilien.org/de/veranstaltungen/termine/say-i
 t-mobile-mobile-reporting-video-workshop-fuer-jugendliche-und-junge-erwach
 sene
END:VEVENT
BEGIN:VTIMEZONE
TZID:Europe/Berlin
X-LIC-LOCATION:Europe/Berlin
BEGIN:DAYLIGHT
DTSTART;VALUE=DATE-TIME:20160327T030000
TZNAME:CEST
TZOFFSETFROM:+0100
TZOFFSETTO:+0200
END:DAYLIGHT
END:VTIMEZONE
END:VCALENDAR
