BEGIN:VCALENDAR
VERSION:2.0
PRODID:-//Plone.org//NONSGML plone.app.event//EN
X-WR-TIMEZONE:Europe/Berlin
BEGIN:VEVENT
SUMMARY:SAVE THE DATE: 20.9.24 – Die Spree liegt amAzonas: Diskussion mi
 t Vertreter*innen der Munduruku über Klimagerechtigkeit und Partnerschaft
 sarbeit
DTSTART;TZID=Europe/Berlin;VALUE=DATE-TIME:20240920T113000
DTEND;TZID=Europe/Berlin;VALUE=DATE-TIME:20240920T130000
DTSTAMP;VALUE=DATE-TIME:20260426T051951Z
UID:210de1007d484a20a5cf2d1341ee3e06@app-03.tuxwerk.de:8080
CATEGORIES:Indigene
CREATED;VALUE=DATE-TIME:20240703T135228Z
DESCRIPTION:Von den Folgen der globalen Umweltkrise sind alle betroffen: o
 b in Amazonien\, in Deutschland oder in Berlin. Wird der amazonische Regen
 wald weiter abgeholzt\, kann die Erderwärmung und das Artensterben nicht 
 gebremst werden. Und dort\, wo die Rechte der indigenen Gemeinschaften res
 pektiert und geschützt werden\, bestehen die besten Chancen\, den Regenwa
 ld zu erhalten.
LAST-MODIFIED;VALUE=DATE-TIME:20241008T105209Z
LOCATION:Berlin Global Village (Am Sudhaus 2\, 12053 Berlin – auf dem Ar
 eal der ehemaligen Kindl-Brauerei in Berlin Neukölln / U7 Rathaus Neuköl
 ln\, U8 Boddinstraße\, Bushaltestelle Morusstraße)
URL:https://www.kooperation-brasilien.org/de/veranstaltungen/termine/save-
 the-date-20-9-24-talk-und-diskussion-mit-vertreter-innen-der-indigenen-gem
 einschaft-der-munduruku-ueber-klimagerechtigkeit-und-partnerschaftsarbeit
END:VEVENT
BEGIN:VTIMEZONE
TZID:Europe/Berlin
X-LIC-LOCATION:Europe/Berlin
BEGIN:DAYLIGHT
DTSTART;VALUE=DATE-TIME:20240331T030000
TZNAME:CEST
TZOFFSETFROM:+0100
TZOFFSETTO:+0200
END:DAYLIGHT
END:VTIMEZONE
END:VCALENDAR
