BEGIN:VCALENDAR
VERSION:2.0
PRODID:-//Plone.org//NONSGML plone.app.event//EN
X-WR-TIMEZONE:Europe/Berlin
BEGIN:VEVENT
SUMMARY:Resistência de mulheres indígenas - Widerstand indigener Frauen 
 in Brasilien unter Bolsonaro
DTSTART;TZID=Europe/Berlin;VALUE=DATE-TIME:20211029T180000
DTSTAMP;VALUE=DATE-TIME:20260419T171849Z
UID:a25956a7d63649c4875f8dabc875189e@app-03.tuxwerk.de:8080
CATEGORIES:Indigene,Menschenrechte
CONTACT:https://www.facebook.com/events/874060766593193/
CREATED;VALUE=DATE-TIME:20211027T075338Z
DESCRIPTION:Die COVID-Stuation in Brasilien ist mit mehr als 600.000 Todes
 fällen besonders dramatisch und betrifft insbesondere die indigenen Bevö
 lkerung. In dieser Veranstaltung werden Referierende über die aktuelle Si
 tuation in Brasilien und von der Rolle indigener Frauen bei der Organisati
 on des Widerstands berichten.
LAST-MODIFIED;VALUE=DATE-TIME:20211027T075703Z
LOCATION:Centro Sociale\, Sternstraße 2\, Hamburg
URL:https://www.kooperation-brasilien.org/de/veranstaltungen/termine/resis
 tencia-de-mulheres-indigenas-widerstand-indigener-frauen-in-brasilien-unte
 r-bolsonaro
END:VEVENT
BEGIN:VTIMEZONE
TZID:Europe/Berlin
X-LIC-LOCATION:Europe/Berlin
BEGIN:DAYLIGHT
DTSTART;VALUE=DATE-TIME:20210328T030000
TZNAME:CEST
TZOFFSETFROM:+0100
TZOFFSETTO:+0200
END:DAYLIGHT
END:VTIMEZONE
END:VCALENDAR
