BEGIN:VCALENDAR
VERSION:2.0
PRODID:-//Plone.org//NONSGML plone.app.event//EN
X-WR-TIMEZONE:Europe/Berlin
BEGIN:VEVENT
SUMMARY:Rassismus in Zeiten der Corona-Pandemie
DTSTART;TZID=Europe/Berlin;VALUE=DATE-TIME:20210218T200000
DTEND;TZID=Europe/Berlin;VALUE=DATE-TIME:20210218T213000
DTSTAMP;VALUE=DATE-TIME:20260420T074812Z
UID:7c85070ba97444e4bcd44d947f745b5e@app-03.tuxwerk.de:8080
CONTACT:dekolonial@allerweltshaus.de\, https://www.dekolonial-koeln.de
CREATED;VALUE=DATE-TIME:20210216T091618Z
DESCRIPTION:online Diskussion
LAST-MODIFIED;VALUE=DATE-TIME:20210216T091622Z
LOCATION:virtuell
URL:https://www.kooperation-brasilien.org/de/veranstaltungen/termine/rassi
 smus-in-zeiten-der-corona-pandemie
END:VEVENT
BEGIN:VTIMEZONE
TZID:Europe/Berlin
X-LIC-LOCATION:Europe/Berlin
BEGIN:STANDARD
DTSTART;VALUE=DATE-TIME:20201025T020000
TZNAME:CET
TZOFFSETFROM:+0200
TZOFFSETTO:+0100
END:STANDARD
END:VTIMEZONE
END:VCALENDAR
