BEGIN:VCALENDAR
VERSION:2.0
PRODID:-//Plone.org//NONSGML plone.app.event//EN
X-WR-TIMEZONE:Europe/Berlin
BEGIN:VEVENT
SUMMARY:Radiosendung "Olympische Spiele 2016 – Ein Blick hinter die Fakt
 en der Großsportereignisse"
DTSTART;TZID=Europe/Berlin;VALUE=DATE-TIME:20160803T233000
DTEND;TZID=Europe/Berlin;VALUE=DATE-TIME:20160804T003000
DTSTAMP;VALUE=DATE-TIME:20260424T162432Z
UID:54f19a8da3070f3396716453a1bec205@app-03.tuxwerk.de:8080
CREATED;VALUE=DATE-TIME:20200429T183113Z
DESCRIPTION:Wir werfen einen Blick hinter die Fakten der Großsportereigni
 sse und die damit in Zusammenhang stehenden Menschenrechtsverletzungen.
LAST-MODIFIED;VALUE=DATE-TIME:20200429T183113Z
LOCATION:Radio Köln
URL:https://www.kooperation-brasilien.org/de/veranstaltungen/termine/radio
 sendung-olympische-spiele-2016-2013-ein-blick-hinter-die-fakten-der-grosss
 portereignisse
END:VEVENT
BEGIN:VTIMEZONE
TZID:Europe/Berlin
X-LIC-LOCATION:Europe/Berlin
BEGIN:DAYLIGHT
DTSTART;VALUE=DATE-TIME:20160327T030000
TZNAME:CEST
TZOFFSETFROM:+0100
TZOFFSETTO:+0200
END:DAYLIGHT
END:VTIMEZONE
END:VCALENDAR
