BEGIN:VCALENDAR
VERSION:2.0
PRODID:-//Plone.org//NONSGML plone.app.event//EN
X-WR-TIMEZONE:Europe/Berlin
BEGIN:VEVENT
SUMMARY:¡PROTAGONISTAS! Resistance • Feminisms • Revolution
DTSTART;VALUE=DATE:20230621
DTEND;VALUE=DATE:20230703
DTSTAMP;VALUE=DATE-TIME:20260423T045206Z
UID:79a580a7479844f896b6038f3c1b8189@app-03.tuxwerk.de:8080
CONTACT:https://www.hebbel-am-ufer.de/programm/festivals-projekte/protagon
 istas
CREATED;VALUE=DATE-TIME:20230606T084010Z
DESCRIPTION:Festival mit Sara A. Abbas\, Parvin Ardalan\, Simone Dede Ayiv
 i\, Priya Basil\, Sandra Bello\, Carolina Bianchi\, Pau(la) Chaves Bonilla
 \, Lorena Cabnal\, Anna Carastathis\, Carmen Cariño\, Luci Cavallero\, Ch
 ocolate Remix\, Christina Clemm\, Andrea Dip\, Dilar Dirik\, Ebow\, Firooz
 eh Farvardin\, Anielle Franco\, Véronica Gago\, María Galindo\, Denise G
 arcia Bergt\, Dalia Gebrial\, Encarnación Gutiérrez-Rodríguez\, Sabine 
 Hark\, Houseclub / Qzeng Productions\, Becka Hudson\, Nesrine Jelalia\, Fa
 temeh Karimi\, İida Käyhkö\, LASTESIS\, Agata Anna Lisiak\, Ewa Majewsk
 a\, Erica Malunguinho\, María do Mar Castro Varela\, Barbara Marcel\, Zet
 hu Matebeni\, Lina Meruane\, Miriam Nobre\, Camila Nobrega\, Bahar Oghalai
 \, Marina Otero\, Peira und Nachbarinnen vom Mehringplatz\, Somayeh Rostam
 pour\, Bafta Sarbo\, Elif Sarican\, Evren Savcı\, Kate Sheese\, Jamile da
  Silva e Silva\, Rub(én) Solís Mecalco\, Myrto Tsilimpounidi\, Nazan Üs
 tündağ\, Louise Wagner\, Himmat Zoubi und Organisationen wie Casa Kuà\
 , CENÎ – Kurdisches Frauenbüro für Frieden e.V.\, Feminist Autonomo
 us Centre for Research Greece\, Feminists4jina\, Initiative Schwarze Mensc
 hen in Deutschland Bund e.V.\, International Women* Space\, Jineoloji\, me
 dico international e.V.\, Missy Magazine\, S.U.S.I. Interkulturelles Fraue
 nzentrum\, Transnational Feminism\, Solidarity\, and Social Justice\, Tran
 StyX: Tunisian Queer Art Project u. a.
LAST-MODIFIED;VALUE=DATE-TIME:20230606T084105Z
LOCATION:HAU1\, HAU2\, HAU3\, HAU4\, Outdoor
URL:https://www.kooperation-brasilien.org/de/veranstaltungen/termine/prota
 gonistas-resistance-2022-feminisms-2022-revolution
END:VEVENT
END:VCALENDAR
