BEGIN:VCALENDAR
VERSION:2.0
PRODID:-//Plone.org//NONSGML plone.app.event//EN
X-WR-TIMEZONE:Europe/Berlin
BEGIN:VEVENT
SUMMARY:Premiere Documentary: LEPANTO - ÚLTIMO CANGACEIRO
DTSTART;TZID=Europe/Berlin;VALUE=DATE-TIME:20171016T233000
DTEND;TZID=Europe/Berlin;VALUE=DATE-TIME:20171017T020000
DTSTAMP;VALUE=DATE-TIME:20260422T103655Z
UID:4088b42884bb08fc3a5f4ccbf2d633b2@app-03.tuxwerk.de:8080
CREATED;VALUE=DATE-TIME:20200429T183105Z
DESCRIPTION:We're glad to announce the International Premiere of LEPANTO -
  ÚLTIMO CANGACEIRO at historic Babylon Kino at Rosa Luxembourg Strasse n.
  30 in Berlin.
LAST-MODIFIED;VALUE=DATE-TIME:20200429T183105Z
LOCATION:Berlin
URL:https://www.kooperation-brasilien.org/de/veranstaltungen/termine/premi
 ere-documentary-lepanto-ultimo-cangaceiro
END:VEVENT
BEGIN:VTIMEZONE
TZID:Europe/Berlin
X-LIC-LOCATION:Europe/Berlin
BEGIN:DAYLIGHT
DTSTART;VALUE=DATE-TIME:20170326T030000
TZNAME:CEST
TZOFFSETFROM:+0100
TZOFFSETTO:+0200
END:DAYLIGHT
END:VTIMEZONE
END:VCALENDAR
