BEGIN:VCALENDAR
VERSION:2.0
PRODID:-//Plone.org//NONSGML plone.app.event//EN
X-WR-TIMEZONE:Europe/Berlin
BEGIN:VEVENT
SUMMARY:Premiere „Count Down am Xingu V“
DTSTART;TZID=Europe/Berlin;VALUE=DATE-TIME:20160713T000000
DTEND;TZID=Europe/Berlin;VALUE=DATE-TIME:20160713T020000
DTSTAMP;VALUE=DATE-TIME:20260422T235905Z
UID:1f7ba6971716828762838b24699cf3c6@app-03.tuxwerk.de:8080
CREATED;VALUE=DATE-TIME:20200429T183102Z
DESCRIPTION:Der neue Dokumentarfilm von Martin Keßler über den Kampf geg
 en Megastaudämme und Korruption in Brasilien
LAST-MODIFIED;VALUE=DATE-TIME:20200429T183102Z
LOCATION:Berlin
URL:https://www.kooperation-brasilien.org/de/veranstaltungen/termine/premi
 ere-201ecount-down-am-xingu-v201c
END:VEVENT
BEGIN:VTIMEZONE
TZID:Europe/Berlin
X-LIC-LOCATION:Europe/Berlin
BEGIN:DAYLIGHT
DTSTART;VALUE=DATE-TIME:20160327T030000
TZNAME:CEST
TZOFFSETFROM:+0100
TZOFFSETTO:+0200
END:DAYLIGHT
END:VTIMEZONE
END:VCALENDAR
