BEGIN:VCALENDAR
VERSION:2.0
PRODID:-//Plone.org//NONSGML plone.app.event//EN
X-WR-TIMEZONE:Europe/Berlin
BEGIN:VEVENT
SUMMARY:Premiere „COUNT - DOWN AM TAPAJOS“
DTSTART;TZID=Europe/Berlin;VALUE=DATE-TIME:20150709T233000
DTEND;TZID=Europe/Berlin;VALUE=DATE-TIME:20150710T013000
DTSTAMP;VALUE=DATE-TIME:20260420T181916Z
UID:d5439350ce3557df191e8ef61e4e4476@app-03.tuxwerk.de:8080
CREATED;VALUE=DATE-TIME:20200429T183101Z
DESCRIPTION:(21 min)\, 09.07. 2015\, 19.30 Uhr„Haus am Dom“\, 60311 Fr
 ankfurt
LAST-MODIFIED;VALUE=DATE-TIME:20200429T183101Z
URL:https://www.kooperation-brasilien.org/de/veranstaltungen/termine/premi
 ere-201ecount-down-am-tapajos201c
END:VEVENT
BEGIN:VTIMEZONE
TZID:Europe/Berlin
X-LIC-LOCATION:Europe/Berlin
BEGIN:DAYLIGHT
DTSTART;VALUE=DATE-TIME:20150329T030000
TZNAME:CEST
TZOFFSETFROM:+0100
TZOFFSETTO:+0200
END:DAYLIGHT
END:VTIMEZONE
END:VCALENDAR
