BEGIN:VCALENDAR
VERSION:2.0
PRODID:-//Plone.org//NONSGML plone.app.event//EN
X-WR-TIMEZONE:Europe/Berlin
BEGIN:VEVENT
SUMMARY:Postcolonial Black and Native Brazilian Women Movements in Brazil 
 between Amefricanism and Feminism: What are they about?
DTSTART;TZID=Europe/Berlin;VALUE=DATE-TIME:20180620T220000
DTEND;TZID=Europe/Berlin;VALUE=DATE-TIME:20180621T000000
DTSTAMP;VALUE=DATE-TIME:20260423T182916Z
UID:971c793b33bf02c8f7b489530f5c0814@app-03.tuxwerk.de:8080
CATEGORIES:Soziale Bewegungen,Gender,Menschenrechte und Gesellschaft
CREATED;VALUE=DATE-TIME:20200429T183058Z
DESCRIPTION:Vortragssprache: Englisch\n\n\n\n
LAST-MODIFIED;VALUE=DATE-TIME:20200429T183058Z
LOCATION:Frankfurt
URL:https://www.kooperation-brasilien.org/de/veranstaltungen/termine/postc
 olonial-black-and-native-brazilian-women-movements-in-brazil-between-amefr
 icanism-and-feminism-what-are-they-about
END:VEVENT
BEGIN:VTIMEZONE
TZID:Europe/Berlin
X-LIC-LOCATION:Europe/Berlin
BEGIN:DAYLIGHT
DTSTART;VALUE=DATE-TIME:20180325T030000
TZNAME:CEST
TZOFFSETFROM:+0100
TZOFFSETTO:+0200
END:DAYLIGHT
END:VTIMEZONE
END:VCALENDAR
