BEGIN:VCALENDAR
VERSION:2.0
PRODID:-//Plone.org//NONSGML plone.app.event//EN
X-WR-TIMEZONE:Europe/Berlin
BEGIN:VEVENT
SUMMARY:Podiumsdiskussion - Die Klima-Herausforderung in Brasilien: Einfl
 üsse und Chancen der deutsch-brasilianischen Zusammenarbeit
DTSTART;TZID=Europe/Berlin;VALUE=DATE-TIME:20241005T123000
DTEND;TZID=Europe/Berlin;VALUE=DATE-TIME:20241005T143000
DTSTAMP;VALUE=DATE-TIME:20260423T092515Z
UID:08e407a530344f9fa1e7fbf8b93189b8@app-03.tuxwerk.de:8080
CATEGORIES:_feb23
CREATED;VALUE=DATE-TIME:20241008T083047Z
DESCRIPTION:Im Rahmen des Brasuca-Festivals sprechen Ayobami Moreira und A
 na Flávia Boeni über die Klima-Herausforderung in Brasilien. Wie kann ei
 ne Zusammenarbeit die Klimakrise bekämpfen?
LAST-MODIFIED;VALUE=DATE-TIME:20241008T083103Z
LOCATION:Escholzpark Freiburg
URL:https://www.kooperation-brasilien.org/de/veranstaltungen/termine/podiu
 msdiskussion-die-klima-herausforderung-in-brasilien-einfluesse-und-chancen
 -der-deutsch-brasilianischen-zusammenarbeit
END:VEVENT
BEGIN:VTIMEZONE
TZID:Europe/Berlin
X-LIC-LOCATION:Europe/Berlin
BEGIN:DAYLIGHT
DTSTART;VALUE=DATE-TIME:20240331T030000
TZNAME:CEST
TZOFFSETFROM:+0100
TZOFFSETTO:+0200
END:DAYLIGHT
END:VTIMEZONE
END:VCALENDAR
