BEGIN:VCALENDAR
VERSION:2.0
PRODID:-//Plone.org//NONSGML plone.app.event//EN
X-WR-TIMEZONE:Europe/Berlin
BEGIN:VEVENT
SUMMARY:PIRIPKURA auf Spurensuche zu den letzten Überlebenden eines indig
 enen Volkes
DTSTART;TZID=Europe/Berlin;VALUE=DATE-TIME:20190126T213000
DTEND;TZID=Europe/Berlin;VALUE=DATE-TIME:20190126T230000
DTSTAMP;VALUE=DATE-TIME:20260423T120422Z
UID:4fda6c0623eb5e62f28bf40ac82bd456@app-03.tuxwerk.de:8080
CREATED;VALUE=DATE-TIME:20200429T183043Z
DESCRIPTION:Der brasilianische Dokumentarfilm ist ein Weckruf anlässlich 
 der Bedrohung der letzten ursprünglichen Völker unserer Erde.
LAST-MODIFIED;VALUE=DATE-TIME:20200429T183043Z
LOCATION:Freiburg
URL:https://www.kooperation-brasilien.org/de/veranstaltungen/termine/pirip
 kura-auf-spurensuche-zu-den-letzten-ueberlebenden-des-gleichnamigen-indige
 nen-volkes
END:VEVENT
BEGIN:VTIMEZONE
TZID:Europe/Berlin
X-LIC-LOCATION:Europe/Berlin
BEGIN:STANDARD
DTSTART;VALUE=DATE-TIME:20181028T020000
TZNAME:CET
TZOFFSETFROM:+0200
TZOFFSETTO:+0100
END:STANDARD
END:VTIMEZONE
END:VCALENDAR
