BEGIN:VCALENDAR
VERSION:2.0
PRODID:-//Plone.org//NONSGML plone.app.event//EN
X-WR-TIMEZONE:Europe/Berlin
BEGIN:VEVENT
SUMMARY:Palestra: IV Chamado da Floresta - O legado de Chico Mendes
DTSTART;TZID=Europe/Berlin;VALUE=DATE-TIME:20170621T230000
DTEND;TZID=Europe/Berlin;VALUE=DATE-TIME:20170622T010000
DTSTAMP;VALUE=DATE-TIME:20260421T103452Z
UID:4a0b24b422593c981e67a5a2136284d4@app-03.tuxwerk.de:8080
CATEGORIES:Soziale Bewegungen,Traditionelle Völker und Gemeinschaften,Lan
 dkonflikte und Umwelt,Wald und Klima
CREATED;VALUE=DATE-TIME:20200429T183036Z
DESCRIPTION:Vortrag von Edel Moraes bei IMBRADIVA e.V.
LAST-MODIFIED;VALUE=DATE-TIME:20200429T183036Z
LOCATION:Frankfurt
URL:https://www.kooperation-brasilien.org/de/veranstaltungen/termine/pales
 tra-iv-chamado-da-floresta-o-legado-de-chico-mendes
END:VEVENT
BEGIN:VTIMEZONE
TZID:Europe/Berlin
X-LIC-LOCATION:Europe/Berlin
BEGIN:DAYLIGHT
DTSTART;VALUE=DATE-TIME:20170326T030000
TZNAME:CEST
TZOFFSETFROM:+0100
TZOFFSETTO:+0200
END:DAYLIGHT
END:VTIMEZONE
END:VCALENDAR
